BEGIN:VCALENDAR
VERSION:2.0
BEGIN:VTIMEZONE
TZID:GMT Standard Time
END:VTIMEZONE
BEGIN:VEVENT
UID:AE4198
DTSTAMP:20260424T162500Z
SUMMARY:8-9 Şubat 2016 Antalya ERASMUS+ Bilgilendirme Toplantısı
CLASS:PUBLIC
DESCRIPTION:
STATUS:CONFIRMED
PRIORITY:1
DTSTART:20160207T220000Z
DTEND:20160209T215900Z
TRANSP:OPAQUE
END:VEVENT
END:VCALENDAR
